
BEGIN:VCALENDAR
VERSION:2.0
PRODID:-//wp-events-plugin.com//7.2.3.1//EN
TZID:Europe/Vienna
X-WR-TIMEZONE:Europe/Vienna
BEGIN:VEVENT
UID:126@hl7.at
DTSTART;TZID=Europe/Vienna:20220120T150000
DTEND;TZID=Europe/Vienna:20220120T160000
DTSTAMP:20211221T124818Z
URL:https://hl7.at/events/tc-terminology-meeting/
SUMMARY:TC Terminology Meeting
DESCRIPTION:Agenda:\n\n 	Diskussion und Verabschiedung des Mission Statemen
 ts\n 	Klärung der dringlichsten Handlungsfelder und nächsten Aktivitäte
 n\n 	Wahl der TC Leitung\n
CATEGORIES:HL7 Austria
LOCATION:https://teams.microsoft.com/l/meetup-join/19%3ameeting_NjQ5YjdhOTg
 tZTBlNS00MzM3LTlkMDgtNmE3ZjU0ZDc2ZmNl%40thread.v2/0?context=%7b%22Tid%22%3
 a%22d44cb284-d21c-43a3-93ad-33a471b921b8%22%2c%22Oid%22%3a%22a34cccea-e1c9
 -48b7-9d96-74d81ee3891e%22%7d
END:VEVENT
BEGIN:VTIMEZONE
TZID:Europe/Vienna
X-LIC-LOCATION:Europe/Vienna
BEGIN:STANDARD
DTSTART:20211031T020000
TZOFFSETFROM:+0200
TZOFFSETTO:+0100
TZNAME:CET
END:STANDARD
END:VTIMEZONE
END:VCALENDAR