
BEGIN:VCALENDAR
VERSION:2.0
PRODID:-//wp-events-plugin.com//7.2.3.1//EN
TZID:Europe/Vienna
X-WR-TIMEZONE:Europe/Vienna
BEGIN:VEVENT
UID:130@hl7.at
DTSTART;TZID=Europe/Vienna:20220331T160000
DTEND;TZID=Europe/Vienna:20220331T170000
DTSTAMP:20220225T063857Z
URL:https://hl7.at/events/tc-terminology-meeting-4/
SUMMARY:TC Terminology Meeting
DESCRIPTION:Agenda:\n\n 	Ballotieren von Terminologien\n 	Aktualisierung de
 r internationalen HL7 Codelisten am Terminologieserver\n 	Geschlecht „no
 n-binary“ - Verwendung in in HL7 V3 und FHIR\n 	Konzept Phototox-Daten a
 m Terminologieserver\n\nProtokoll: https://collab.hl7.at/display/BAL/Absti
 mmungen+und+Meetings\n\n&nbsp\;\n\n\n\nKlicken Sie hier\, um an der Bespre
 chung teilzunehmen\n\nOder anrufen (nur Audio)\n\n+43 1 2056367388\,\,9593
 65838#   Austria\, Vienna\n\nTelefonkonferenz-ID: 959 365 838#\n\nLokal
 e Nummer suchen | PIN zurücksetzen\n\nWeitere Infos | Besprechungsopt
 ionen
CATEGORIES:HL7 Austria
LOCATION:https://teams.microsoft.com/l/meetup-join/19%3ameeting_MzZjOWJjOTA
 tMmE4Yi00NmZjLTg5ZGUtNzI2OTNkYTUxNzIy%40thread.v2/0?context=%7b%22Tid%22%3
 a%22d44cb284-d21c-43a3-93ad-33a471b921b8%22%2c%22Oid%22%3a%22987fa871-3a2d
 -4ba0-be33-e4f158c0e30c%22%7d
END:VEVENT
BEGIN:VTIMEZONE
TZID:Europe/Vienna
X-LIC-LOCATION:Europe/Vienna
BEGIN:DAYLIGHT
DTSTART:20220327T030000
TZOFFSETFROM:+0100
TZOFFSETTO:+0200
TZNAME:CEST
END:DAYLIGHT
END:VTIMEZONE
END:VCALENDAR