
BEGIN:VCALENDAR
VERSION:2.0
PRODID:-//wp-events-plugin.com//7.2.3.1//EN
TZID:Europe/Vienna
X-WR-TIMEZONE:Europe/Vienna
BEGIN:VEVENT
UID:129@hl7.at
DTSTART;TZID=Europe/Vienna:20220224T160000
DTEND;TZID=Europe/Vienna:20220224T170000
DTSTAMP:20220203T154307Z
URL:https://hl7.at/events/tc-terminology-meeting-3/
SUMMARY:TC Terminology Meeting
DESCRIPTION:Agenda:\n\n 	Status: Aktualisierung &amp\; Übersetzung der HL7
  Codelisten\n 	Weitere Handlungsfelder\n\nMöchten Sie teilnehmen? Mail an
  office@hl7.at
CATEGORIES:HL7 Austria
END:VEVENT
BEGIN:VTIMEZONE
TZID:Europe/Vienna
X-LIC-LOCATION:Europe/Vienna
BEGIN:STANDARD
DTSTART:20211031T020000
TZOFFSETFROM:+0200
TZOFFSETTO:+0100
TZNAME:CET
END:STANDARD
END:VTIMEZONE
END:VCALENDAR