
BEGIN:VCALENDAR
VERSION:2.0
PRODID:-//wp-events-plugin.com//7.2.3.1//EN
TZID:Europe/Vienna
X-WR-TIMEZONE:Europe/Vienna
BEGIN:VEVENT
UID:88@hl7.at
DTSTART;TZID=Europe/Vienna:20190321T133000
DTEND;TZID=Europe/Vienna:20190321T163000
DTSTAMP:20190308T080228Z
URL:https://hl7.at/events/tc-fhir-meeting-2/
SUMMARY:TC FHIR Meeting
DESCRIPTION:Geplante Agenda:\n\n 	kurzes Intro des HL7 Austria github Repos
 itories\n 	Weiterarbeiten/Fertigstellung At-Profile für Patient und Adres
 se\n 	Naming Conventions für HL7 AT Profile\n 	Diskussion der Ballotierun
 g von FHIR Profilen – Einsatz von Implementation Guides (IGs)\n 	Inputsa
 mmlung für HL7 WGM Montreal\n\nKommunikation über Mailing List FHIR http
 s://hl7.at/mailing/?p=subscribe&amp\;id=1\n\n&nbsp\;
ATTACH;FMTTYPE=image/jpeg:https://hl7.at/wp-content/uploads/2014/01/FHIR.p
 ng
CATEGORIES:HL7 Austria,Österreich
LOCATION:Renaissance Wien Hotel\, Linke Wienzeile/Ullmannstraße 71\, Wien\
 , Wien\, 1150\, Österreich  
X-APPLE-STRUCTURED-LOCATION;VALUE=URI;X-ADDRESS=Linke Wienzeile/Ullmannstra
 ße 71\, Wien\, Wien\, 1150\, Österreich;X-APPLE-RADIUS=100;X-TITLE=Renai
 ssance Wien Hotel:geo:0,0
END:VEVENT
BEGIN:VTIMEZONE
TZID:Europe/Vienna
X-LIC-LOCATION:Europe/Vienna
BEGIN:STANDARD
DTSTART:20181028T020000
TZOFFSETFROM:+0200
TZOFFSETTO:+0100
TZNAME:CET
END:STANDARD
END:VTIMEZONE
END:VCALENDAR