
BEGIN:VCALENDAR
VERSION:2.0
PRODID:-//wp-events-plugin.com//7.2.3.1//EN
TZID:Europe/Vienna
X-WR-TIMEZONE:Europe/Vienna
BEGIN:VEVENT
UID:97@hl7.at
DTSTART;TZID=Europe/Vienna;VALUE=DATE:20190923
DTEND;TZID=Europe/Vienna;VALUE=DATE:20190926
DTSTAMP:20200307T155828Z
URL:https://hl7.at/events/joint-ontology-workshops-jowo-2019-2/
SUMMARY:Joint Ontology Workshops (JOWO) 2019
DESCRIPTION:Episode V: The Styrian Autumn of Ontology\n\nThe Joint Ontology
  WOrkshops (JOWO) is a venue of workshops that\, together\, address a wide
  spectrum of topics related to ontology research\, ranging from Cognitive 
 Science to Knowledge Representation\, Natural Language Processing\, Artifi
 cial Intelligence\, Logic\, Philosophy\, and Linguistics.\n\nThe Medical U
 niversity of Graz is delighted to host the 2019 edition of the Joint Ontol
 ogy Workshops on September 23-25\, 2019. This fifth edition will include 1
 2 workshops and 5 tutorials.\n\nhttps://www.iaoa.org/jowo/2019/\n\nMedical
  University of Graz - Styria - AUSTRIA
CATEGORIES:International,Österreich
END:VEVENT
BEGIN:VTIMEZONE
TZID:Europe/Vienna
X-LIC-LOCATION:Europe/Vienna
BEGIN:DAYLIGHT
DTSTART:20190331T030000
TZOFFSETFROM:+0100
TZOFFSETTO:+0200
TZNAME:CEST
END:DAYLIGHT
END:VTIMEZONE
END:VCALENDAR