
BEGIN:VCALENDAR
VERSION:2.0
PRODID:-//wp-events-plugin.com//7.2.3.1//EN
TZID:Europe/Vienna
X-WR-TIMEZONE:Europe/Vienna
BEGIN:VEVENT
UID:64@hl7.at
DTSTART;TZID=Europe/Vienna;VALUE=DATE:20180711
DTEND;TZID=Europe/Vienna;VALUE=DATE:20180713
DTSTAMP:20190309T175003Z
URL:https://hl7.at/events/ihic-2017-mastering-the-interoperability-challen
 ge-in-portsmouth-uk/
SUMMARY:IHIC 2018 „Mastering the Interoperability Challenge“ in Portsmo
 uth\, UK
DESCRIPTION:The 18th International HL7 Interoperability Conference (IHIC 20
 18) will be held from 11-12 July 2018 at the University of Portsmouth\, UK
 . 
CATEGORIES:International
END:VEVENT
BEGIN:VTIMEZONE
TZID:Europe/Vienna
X-LIC-LOCATION:Europe/Vienna
BEGIN:DAYLIGHT
DTSTART:20180325T030000
TZOFFSETFROM:+0100
TZOFFSETTO:+0200
TZNAME:CEST
END:DAYLIGHT
END:VTIMEZONE
END:VCALENDAR