
BEGIN:VCALENDAR
VERSION:2.0
PRODID:-//wp-events-plugin.com//7.2.3.1//EN
TZID:Europe/Vienna
X-WR-TIMEZONE:Europe/Vienna
BEGIN:VEVENT
UID:132@hl7.at
DTSTART;TZID=Europe/Vienna;VALUE=DATE:20220517
DTEND;TZID=Europe/Vienna;VALUE=DATE:20220520
DTSTAMP:20220401T134955Z
URL:https://hl7.at/events/hl7-dicom-jahrestagung-2022/
SUMMARY:HL7 & DICOM Jahrestagung 2022
DESCRIPTION:Erstmals laden die HL7 Austria und die DICOM-Anwendergruppe Aus
 tria am Mittwoch\, den 20. März 2019 zur gemeinsamen Jahrestagung. Der Ta
 g wird wie gewohnt mit interessanten Themen zu e-Health und Standards gef
 üllt sein\; neu ist durch den Veranstaltungspartner DICOM ein Schwerpunkt
  rund um den elektronischen Bilddatenaustausch. Flankiert wird die Jahrest
 agung von vier Workshops zu den Themen "DICOM" "FHIR" und "SNOMED CT"\, am
  Dienstag\, 19. und Donnerstag\, 21. März.\n
ATTACH;FMTTYPE=image/jpeg:https://hl7.at/wp-content/uploads/2017/03/meetin
 g-1015313_1280.jpg
CATEGORIES:DICOM,HL7 Austria,Österreich
LOCATION:Renaissance Wien Hotel\, Linke Wienzeile/Ullmannstraße 71\, Wien\
 , Wien\, 1150\, Österreich  
X-APPLE-STRUCTURED-LOCATION;VALUE=URI;X-ADDRESS=Linke Wienzeile/Ullmannstra
 ße 71\, Wien\, Wien\, 1150\, Österreich;X-APPLE-RADIUS=100;X-TITLE=Renai
 ssance Wien Hotel:geo:0,0
END:VEVENT
BEGIN:VTIMEZONE
TZID:Europe/Vienna
X-LIC-LOCATION:Europe/Vienna
BEGIN:DAYLIGHT
DTSTART:20220327T030000
TZOFFSETFROM:+0100
TZOFFSETTO:+0200
TZNAME:CEST
END:DAYLIGHT
END:VTIMEZONE
END:VCALENDAR