
BEGIN:VCALENDAR
VERSION:2.0
PRODID:-//wp-events-plugin.com//7.2.3.1//EN
TZID:Europe/Vienna
X-WR-TIMEZONE:Europe/Vienna
BEGIN:VEVENT
UID:91@hl7.at
DTSTART;TZID=Europe/Vienna;VALUE=DATE:20200317
DTEND;TZID=Europe/Vienna;VALUE=DATE:20200320
DTSTAMP:20200310T182110Z
URL:https://hl7.at/events/hl7-dicom-jahrestagung-2020/
SUMMARY:HL7 & DICOM Jahrestagung 2020 - VERSCHOBEN
DESCRIPTION:HL7 Austria und die DICOM-Anwendergruppe Austria laden am Mittw
 och\, den 18. März 2020 zur gemeinsamen Jahrestagung. Flankiert wird die 
 Jahrestagung von mehreren Workshops zu den Themen "DICOM" "FHIR" und "SNOM
 ED CT"\, am Dienstag\, 17. und Donnerstag\, 19. März.\n
ATTACH;FMTTYPE=image/jpeg:https://hl7.at/wp-content/uploads/2019/12/Jahres
 tagung-2020-Banner-Quadrat.jpg
CATEGORIES:DICOM,HL7 Austria,Österreich
LOCATION:Courtyard by Marriott Vienna Prater/Messe\, Trabrennstraße 4\, Wi
 en\, Wien\, 1020\, Österreich  
GEO:48.213061;16.413397
X-APPLE-STRUCTURED-LOCATION;VALUE=URI;X-ADDRESS=Trabrennstraße 4\, Wien\, 
 Wien\, 1020\, Österreich;X-APPLE-RADIUS=100;X-TITLE=Courtyard by Marriott
  Vienna Prater/Messe:geo:48.213061,16.413397
END:VEVENT
BEGIN:VTIMEZONE
TZID:Europe/Vienna
X-LIC-LOCATION:Europe/Vienna
BEGIN:STANDARD
DTSTART:20191027T020000
TZOFFSETFROM:+0200
TZOFFSETTO:+0100
TZNAME:CET
END:STANDARD
END:VTIMEZONE
END:VCALENDAR