
BEGIN:VCALENDAR
VERSION:2.0
PRODID:-//wp-events-plugin.com//7.2.3.1//EN
TZID:Europe/Vienna
X-WR-TIMEZONE:Europe/Vienna
BEGIN:VEVENT
UID:98@hl7.at
DTSTART;TZID=Europe/Vienna:20191015T100000
DTEND;TZID=Europe/Vienna:20191015T150000
DTSTAMP:20191001T155716Z
URL:https://hl7.at/events/ends-workshop5/
SUMMARY:Workshop Normdatensatz (NDS)
DESCRIPTION: Agenda:\n\n 	Aktueller Stand des Projektes\, was ist getan\, w
 as ist noch zu tun\n 	Offene Fragen\n 	Walkthrough durch den aktuellen Sta
 nd der ENDS Spezifikationen\n 	Festlegung nächstes Treffen\n\nDie allgeme
 ine Projektseite finden Sie unter https://wiki.hl7.at/index.php?title=AG_E
 NDS_2.\n\n[av_image src='https://hl7.at/wp-content/uploads/2019/10/öäk-k
 urie-ngl-300x56.jpg' attachment='4151' attachment_size='medium' align='lef
 t' styling='' hover='' link='' target='' caption='' font_size='' appearanc
 e='' overlay_opacity='0.4' overlay_color='#000000' overlay_text_color='#ff
 ffff' copyright='' animation='no-animation' av_uid='' admin_preview_bg='']
 [/av_image]\n\n\n\n&nbsp\;
ATTACH;FMTTYPE=image/jpeg:https://hl7.at/wp-content/uploads/2019/10/nds.jp
 g
CATEGORIES:HL7 Austria,Österreich
LOCATION:FH Technikum Wien\, Höchstädtplatz 6\, Wien\, 1200 \, Österreic
 h  
GEO:48.2390534;16.377522699999986
X-APPLE-STRUCTURED-LOCATION;VALUE=URI;X-ADDRESS=Höchstädtplatz 6\, Wien\,
  1200 \, Österreich;X-APPLE-RADIUS=100;X-TITLE=FH Technikum Wien:geo:48.2
 390534,16.377522699999986
END:VEVENT
BEGIN:VTIMEZONE
TZID:Europe/Vienna
X-LIC-LOCATION:Europe/Vienna
BEGIN:DAYLIGHT
DTSTART:20190331T030000
TZOFFSETFROM:+0100
TZOFFSETTO:+0200
TZNAME:CEST
END:DAYLIGHT
END:VTIMEZONE
END:VCALENDAR