
BEGIN:VCALENDAR
VERSION:2.0
PRODID:-//wp-events-plugin.com//7.2.3.1//EN
TZID:Europe/Vienna
X-WR-TIMEZONE:Europe/Vienna
BEGIN:VEVENT
UID:89@hl7.at
DTSTART;TZID=Europe/Vienna:20190521T100000
DTEND;TZID=Europe/Vienna:20190522T160000
DTSTAMP:20190320T093222Z
URL:https://hl7.at/events/dicom-schulungen-basics-advanced/
SUMMARY:DICOM Schulungen: Basics + Advanced
DESCRIPTION:Der Verein „DICOM-Anwendergruppe Austria“ hat sich unter an
 derem die Verbreitung des internationalen DICOM-Standards zum Ziel gesetzt
  und veranstaltet deshalb am 21. und 22. Mai 2019 eine DICOM Schulung.\n\n
 DICOM (Digital Imaging and Communications in Medicine) ist der wichtigste 
 Interoperabilitäts-Standard für die Speicherung und den Austausch von In
 formationen im medizinischen Bilddatenmanagement. Fast alle Hersteller von
  bildgebenden oder bildverarbeitenden Systemen (Digitales Röntgen\, MR\, 
 CT oder Sonographie) verwenden den offenen DICOM-Standard in ihren Produkt
 en. DICOM ist daher die Grundlage für die digitale Bildarchivierung (PACS
 \, Picture Archiving and Communication System) und den herstellerübergrei
 fenden Bilddatenaustausch.\n\nDiese Schulung wurde für den Einstieg in DI
 COM maßgeschneidert:\n\n 	Tag 1 - Basics: Der erste Block ermöglicht ein
 en Einstieg in die DICOM-Welt mit Datenmodell\, Kommunikationsmechanismen 
 und ausgewählten IHE Profilen (Dienstag\, 21.5.2019 10-17 Uhr)\n 	Tag 2 -
  Advanced: Der zweite Block gibt einen tieferen Einblick in DICOM insbeson
 dere in die Datenstruktur und die Serviceklassen. (Mittwoch\, 22.5.2019 9-
 16 Uhr)\n\nDie Blöcke werden an zwei Folgetagen veranstaltet und können 
 separat gebucht werden.\n\nDer Teilnahmebeitrag ist für Mitglieder von HL
 7 Austria und DICOM Austria um 50% reduziert (Gutscheincode MEMBER).\nWeit
 ere Informationen und Anmeldung unter office@dicom-austria.at\n\nDie beide
 n Trainerinnen DI Silvia Winkler\, MSc und DI Sonja Leder haben langjähri
 ge Erfahrung mit DICOM in unterschiedlichen Projekten: von der PACS und DI
 COM-Modality-Archiv Entwicklung bis zum Aufbau eines RIS und der Betreuung
  des zentralen Bilddatenarchivs eines Krankenanstaltenverbundes.\n\nIndivi
 duelle Vertiefungsworkshops und Alternativtermine auf Anfrage an office@di
 com-austria.at.\n\n&nbsp\;
ATTACH;FMTTYPE=image/jpeg:https://hl7.at/wp-content/uploads/2019/03/AP4Ng1
 Hh_400x400.jpg
CATEGORIES:DICOM,HL7 Austria,Österreich
LOCATION:Hotel Roomz Vienna Gasometer\, Paragonstraße 1\, Wien\, 1110\, Ö
 sterreich  
X-APPLE-STRUCTURED-LOCATION;VALUE=URI;X-ADDRESS=Paragonstraße 1\, Wien\, 1
 110\, Österreich;X-APPLE-RADIUS=100;X-TITLE=Hotel Roomz Vienna Gasometer:
 geo:0,0
END:VEVENT
BEGIN:VTIMEZONE
TZID:Europe/Vienna
X-LIC-LOCATION:Europe/Vienna
BEGIN:DAYLIGHT
DTSTART:20190331T030000
TZOFFSETFROM:+0100
TZOFFSETTO:+0200
TZNAME:CEST
END:DAYLIGHT
END:VTIMEZONE
END:VCALENDAR