
BEGIN:VCALENDAR
VERSION:2.0
PRODID:-//wp-events-plugin.com//7.2.3.1//EN
TZID:Europe/Vienna
X-WR-TIMEZONE:Europe/Vienna
BEGIN:VEVENT
UID:124@hl7.at
DTSTART;TZID=Europe/Vienna;VALUE=DATE:20211103
DTEND;TZID=Europe/Vienna;VALUE=DATE:20211105
DTSTAMP:20210921T090703Z
URL:https://hl7.at/events/dicom-schulungen-basics-advanced-4/
SUMMARY:DICOM Schulungen: Basics + Advanced
DESCRIPTION:Der Verein „DICOM-Anwendergruppe Austria“ (dicom-austria.at
 ) veranstaltet eine DICOM-Schulung für Einsteiger und Fortgeschrittene (o
 nline / Webinar).\n\n
ATTACH;FMTTYPE=image/jpeg:https://hl7.at/wp-content/uploads/2019/03/AP4Ng1
 Hh_400x400.jpg
CATEGORIES:DICOM,HL7 Austria
END:VEVENT
BEGIN:VTIMEZONE
TZID:Europe/Vienna
X-LIC-LOCATION:Europe/Vienna
BEGIN:STANDARD
DTSTART:20211031T020000
TZOFFSETFROM:+0200
TZOFFSETTO:+0100
TZNAME:CET
END:STANDARD
END:VTIMEZONE
END:VCALENDAR