
BEGIN:VCALENDAR
VERSION:2.0
PRODID:-//wp-events-plugin.com//7.2.3.1//EN
TZID:Europe/Vienna
X-WR-TIMEZONE:Europe/Vienna
BEGIN:VEVENT
UID:66@hl7.at
DTSTART;TZID=Europe/Vienna:20180423T100000
DTEND;TZID=Europe/Vienna:20180424T170000
DTSTAMP:20180330T082403Z
URL:https://hl7.at/events/dicom-schulung-basics-advanced-2/
SUMMARY:DICOM Schulung: Basics & Advanced
DESCRIPTION:[av_image src='https://hl7.at/wp-content/uploads/2017/12/DICOM-
 300x91.jpg' attachment='2599' attachment_size='medium' align='right' styli
 ng='' hover='' link='' target='' caption='' font_size='' appearance='' ove
 rlay_opacity='0.4' overlay_color='#000000' overlay_text_color='#ffffff' an
 imation='no-animation' admin_preview_bg=''][/av_image]\n\nDICOM (Digital I
 maging and Communications in Medicine) ist der wichtigste Interoperabilit
 äts-Standard für die Speicherung und den Austausch von Informationen im 
 medizinischen Bilddatenmanagement. Fast alle Hersteller von bildgebenden o
 der bildverarbeitenden Systemen (Digitales Röntgen\, MR\, CT oder Sonogra
 phie) verwenden den offenen DICOM-Standard in ihren Produkten. DICOM ist d
 aher die Grundlage für die digitale Bildarchivierung (PACS\, Picture Arch
 iving and Communication System).\n\nDiese Schulung wurde für den Einstieg
  in DICOM maßgeschneidert:\n\n 	Tag 1: Der erste Block ermöglicht einen 
 Einstieg in die DICOM-Welt mit Datenmodell\, Kommunikationsmechanismen und
  ausgewählten IHE Profilen\n 	Tag 2: Der zweite Block gibt einen tieferen
  Einblick in DICOM insbesondere in die Datenstruktur und die Serviceklasse
 n.\n\nDie Blöcke werden an zwei Folgetagen veranstaltet und können separ
 at gebucht werden. Individuelle Vertiefungsworkshops und Alternativtermine
  auf Anfrage an office@hl7.at.\n\n&nbsp\;\n\n&nbsp\;\n\nDetail-Übersicht 
 der Schulungsinhalte:\n\n[av_toggle_container initial='0' mode='toggle' so
 rt='']\n[av_toggle title='Block 1: DICOM Basics' tags='']\n\nInhalte des e
 rsten Blocks "DICOM Basics":\n\n 	DICOM Überblick\n\n 	Historie\n 	Aufbau
  und Handhabung des DICOM Standards\n 	Zusammenhang und Abgrenzung von and
 eren Standards\n\n\n 	Grundlagen\n\n 	Model of the Real World\n 	Objects a
 nd Services\n 	IOD\, Composite\, Normalized\n\n\n 	Einführung in die DICO
 M Kommunikationsmechanismen\n\n 	Service Classes\n 	Storage\, Storage Comm
 itment\, Retrieve\n 	Transfer Syntaxes\n 	Presentation Context\n 	Associat
 ion Negotiation\n 	WADO_URI\, WADO-WS\, Restful Services\n\n\n 	Conformanc
 e\n 	Einführung in die IHE Profile\n\n 	Überblick über die Domänen ITI
  und RAD\n 	Grundprinzipien des Scheduled Workflow (SWF)\n 	Imaging Object
  Change Management (IOCM)\n 	Cross-Enterprise Document Sharing for Imaging
  (XDS-I)\n\n\n 	Toolkits\, Tools und weitere Informationsquellen\n\n[/av_t
 oggle]\n\n[av_toggle title='Block 2: DICOM Advanced' tags='']\n\nInhalte d
 es zweiten Blocks "DICOM Advanced":\n\n 	Objects\n\n 	Datenstruktur\n 	Dat
 a Dictionary\n 	Aufbau eines Image Objects\n 	Aufbau eines Structured Repo
 rt Objects\n 	Key Objects\n\n\n 	Service Classes\n\n 	Storage Service Clas
 s\n 	Ablauf beim Storage Commitment\n 	Query/Retrieve Service Class\n 	Bas
 ic Worklist Management Service Class\n 	Procedure Step SOP Class\n 	Media 
 Storage Service Class / DICOMDIR\n\n\n 	Toolkits\, Tools und weitere Beisp
 iele\n\n[/av_toggle]\n[/av_toggle_container]\n\n&nbsp\;\nTrainerinnen:\n[a
 v_toggle_container initial='0' mode='toggle' sort='']\n[av_toggle title='D
 I Silvia Winkler\, MSc' tags='']\n\nStudium der Technischen Physik an der 
 TU Wien mit post-graduate Ausbildung zur Medizinphysikerin\; seit den Anf
 ängen von DICOM als Software-Entwicklerin\, Projektleiterin und Software-
 Architektin u.a. tätig bei der Entwicklung eines PACS\, eines DICOM-Modal
 ity-Archivs\, eines RIS und des zentralen Bilddatenarchivs eines Krankenan
 staltenverbundes. Seit 2013 Geschäftsführerin von Sigma Software Solutio
 ns (www.sigmasoft.at).\n\n[/av_toggle]\n\n[av_toggle title='DI Sonja Leder
 ' tags='']\n\nStudium der Informatik an der TU Wien\; seit den Anfängen v
 on DICOM als Software-Entwicklerin\, Projektleiterin und Testmanagerin u.a
 . tätig bei der Entwicklung eines PACS und des zentralen Bilddatenarchivs
  eines Krankenanstaltenverbundes. Seit 2013 Geschäftsführerin von Sigma 
 Software Solutions (www.sigmasoft.at).\n\n[/av_toggle]\n[/av_toggle_contai
 ner]\n\n&nbsp\;\nTeilnahmebeiträge\nDer Teilnahmebeitrag ist für Mitglie
 der von HL7 Austria um 50% reduziert (Bitte Gutscheincode HL7-DICOM2018 ve
 rwenden).\n\nAchtung: Der Frühbuchertarif ist nur bis 5. April buchbar!\n
 \n[av_table purpose='pricing' caption='']\n\n[av_row row_style='avia-headi
 ng-row'] [av_cell col_style='']Preise für...[/av_cell][av_cell col_style=
 '']Mitglieder[/av_cell][av_cell col_style='']Regulär[/av_cell][/av_row]\n
 \n[av_row row_style=''][av_cell col_style='']Block 1 Frühbucher[/av_cell]
 [av_cell col_style='']600 EUR[/av_cell][av_cell col_style='']1200 EUR[/av_
 cell][/av_row]\n\n[av_row row_style=''][av_cell col_style='']Block 2 Früh
 bucher[/av_cell][av_cell col_style='']600 EUR[/av_cell][av_cell col_style=
 '']1200 EUR[/av_cell][/av_row]\n\n&nbsp\;\n\n[av_row row_style=''][av_cell
  col_style='']Block 1 [/av_cell][av_cell col_style='']800 EUR[/av_cell][av
 _cell col_style='']1600EUR[/av_cell][/av_row]\n\n[av_row row_style=''][av_
 cell col_style='']Block 2 [/av_cell][av_cell col_style='']800 EUR[/av_cell
 ][av_cell col_style='']1600 EUR[/av_cell][/av_row]\n\n[/av_table]\n\nDie M
 itgliedschaft bei HL7 Austria ist keine Voraussetzung für die Teilnahme.
ATTACH;FMTTYPE=image/jpeg:https://hl7.at/wp-content/uploads/2017/12/Röntg
 en.jpg
CATEGORIES:DICOM,Österreich
LOCATION:KAV Wien\, IKT A\, Stadlauer Straße 54\, Wien\, 1220\, Österreic
 h  
GEO:48.2289298;16.456146399999966
X-APPLE-STRUCTURED-LOCATION;VALUE=URI;X-ADDRESS=Stadlauer Straße 54\, Wien
 \, 1220\, Österreich;X-APPLE-RADIUS=100;X-TITLE=KAV Wien\, IKT A:geo:48.2
 289298,16.456146399999966
END:VEVENT
BEGIN:VTIMEZONE
TZID:Europe/Vienna
X-LIC-LOCATION:Europe/Vienna
BEGIN:DAYLIGHT
DTSTART:20180325T030000
TZOFFSETFROM:+0100
TZOFFSETTO:+0200
TZNAME:CEST
END:DAYLIGHT
END:VTIMEZONE
END:VCALENDAR