
BEGIN:VCALENDAR
VERSION:2.0
PRODID:-//wp-events-plugin.com//7.2.3.1//EN
TZID:Europe/Vienna
X-WR-TIMEZONE:Europe/Vienna
BEGIN:VEVENT
UID:123@hl7.at
DTSTART;TZID=Europe/Vienna:20210706T100000
DTEND;TZID=Europe/Vienna:20210706T123000
DTSTAMP:20210621T084349Z
URL:https://hl7.at/events/abstimmungsverfahren-2021-2-elga-cda-labor-und-m
 ikrobiologiebefund-online/
SUMMARY:Abstimmungsverfahren 2021-2: ELGA CDA Labor- und Mikrobiologiebefun
 d (online)
DESCRIPTION:Zur Unterstützung des Ballots 2021-2 wird eine begleitende öf
 fentliche Webkonferenzen angeboten: Die Autoren des Leitfadens bieten eine
 n Online-Termin zur Einführung und für Fragen und Antworten an.\n\n+++++
 +++++++++++++++++++++++++++++++++++++++++++++++++++++++++++++++++++\nAgend
 a\n1) Übersicht "ELGA CDA Labor- und Mikrobiologiebefund (Version 3.0.0)"
 \n\n2) Wichtige Änderungen gegenüber der Vorversion\n\n3) Walkthrough Le
 itfaden\n\n4) Diskussion\, Fragen\n\n+++++++++++++++++++++++++++++++++++++
 +++++++++++++++++++++++++++++++++++\nZugang\nNehmen Sie an meinem Meeting 
 per Computer\, Tablet oder Smartphone teil.\nHier klicken\, um der Besprec
 hung beizutreten\n\nOder anrufen (nur Audio)\n+43 1 2056367388\,\,39681989
 5#   Austria\, Vienna\n\nTelefonkonferenz-ID: 396 819 895#\n\nLokale Numm
 er suchen | Weitere Infos | Besprechungsoptionen\n\n&nbsp\;
ATTACH;FMTTYPE=image/jpeg:https://hl7.at/wp-content/uploads/2018/01/ballot
 -2000px-3.jpg
CATEGORIES:HL7 Austria
END:VEVENT
BEGIN:VTIMEZONE
TZID:Europe/Vienna
X-LIC-LOCATION:Europe/Vienna
BEGIN:DAYLIGHT
DTSTART:20210328T030000
TZOFFSETFROM:+0100
TZOFFSETTO:+0200
TZNAME:CEST
END:DAYLIGHT
END:VTIMEZONE
END:VCALENDAR