
BEGIN:VCALENDAR
VERSION:2.0
PRODID:-//wp-events-plugin.com//7.2.3.1//EN
TZID:Europe/Vienna
X-WR-TIMEZONE:Europe/Vienna
BEGIN:VEVENT
UID:128@hl7.at
DTSTART;TZID=Europe/Vienna:20220324T130000
DTEND;TZID=Europe/Vienna:20220324T150000
DTSTAMP:20220127T144943Z
URL:https://hl7.at/events/28-iop-forum/
SUMMARY:28. Österreichisches Interoperabilitätsforum
DESCRIPTION:Das Österreichische Interoperabilitätsforum ist eine offene P
 lattform zur Zusammenarbeit von e-Health Projekten\, zur gegenseitigen Inf
 ormation und zur Unterstützung von e-Health-Projekten in Österreich. Ver
 anstalter sind die wichtigsten e-Health-Standardisierungsorganisationen in
  Österreich: Austrian Standards\, IHE Austria\, GS1 Austria\, DICOM Austr
 ia und HL7 Austria.  \n\nLink zum Online-Zugang:  Mit MS Teams teilnehme
 n\n\n\nWenn die Lage und die Technik es zulassen\, wird das Meeting ggf. a
 ls Hybrid-Veranstaltung durchgeführt - sowohl physische als auch online-T
 eilnahme sollen möglich sein\n\nVorläufige Agenda: \n\n 	Begrüßung\n 	
 Annahme der Arbeitsergebnisse der letzten Sitzung\n 	Berichte der MoU-Orga
 nisationen\n 	Aktuelle CoVID-19 relevante Themen\n 	Fortschrittsberichte d
 er Projekte / Standardisierung\n 	Abschluss\n\nAnmeldung: Bitte buchen sie
  kostenlos einen Platz über dieses Formular. Wir benötigen ihre Daten f
 ür die Teilnehmerliste sowie bei Präsenzmeetings zur Bereitstellung des 
 Raumes und des Caterings.\n\nMailverteiler des Interoperabilitätsforums: 
 Sie können sich auf  https://hl7.at/newsletter-verwalten/  für den Ma
 ilverteiler des Interoperabilitätsforums anmelden.\n\nTwitter #iopForumAT
  \n\n&nbsp\;
ATTACH;FMTTYPE=image/jpeg:https://hl7.at/wp-content/uploads/2017/03/meetin
 g-1015313_1280.jpg
CATEGORIES:Interoperabilitätsforum,Österreich
LOCATION:https://teams.microsoft.com/l/meetup-join/19%3ameeting_N2FiYjFlMTM
 tNjI3Mi00YmJkLTgyYzYtMzUyZjczY2ZmYzAy%40thread.v2/0?context=%7b%22Tid%22%3
 a%22d44cb284-d21c-43a3-93ad-33a471b921b8%22%2c%22Oid%22%3a%22a34cccea-e1c9
 -48b7-9d96-74d81ee3891e%22%7d
END:VEVENT
BEGIN:VTIMEZONE
TZID:Europe/Vienna
X-LIC-LOCATION:Europe/Vienna
BEGIN:STANDARD
DTSTART:20211031T020000
TZOFFSETFROM:+0200
TZOFFSETTO:+0100
TZNAME:CET
END:STANDARD
END:VTIMEZONE
END:VCALENDAR