
BEGIN:VCALENDAR
VERSION:2.0
PRODID:-//wp-events-plugin.com//7.2.3.1//EN
TZID:Europe/Vienna
X-WR-TIMEZONE:Europe/Vienna
BEGIN:VEVENT
UID:122@hl7.at
DTSTART;TZID=Europe/Vienna:20210930T130000
DTEND;TZID=Europe/Vienna:20210930T160000
DTSTAMP:20210520T143737Z
URL:https://hl7.at/events/26-iop-forum/
SUMMARY:26. Österreichisches Interoperabilitätsforum
DESCRIPTION:Das Österreichische Interoperabilitätsforum ist eine offene P
 lattform zur Zusammenarbeit von e-Health Projekten\, zur gegenseitigen Inf
 ormation und zur Unterstützung von e-Health-Projekten in Österreich. Ver
 anstalter sind die wichtigsten e-Health-Standardisierungsorganisationen in
  Österreich: Austrian Standards\, IHE Austria\, GS1 Austria\, DICOM Austr
 ia und HL7 Austria.  \n\nLink zum Online-Zugang: https://www.gotomeet.me/
 hl7austria/iopforum Zugangscode: 873-353-069\n\nWenn die Lage und die Tech
 nik es zulassen\, wird das Meeting ggf. als Hybrid-Veranstaltung durchgef
 ührt - sowohl physische als auch online-Teilnahme sollen möglich sein\n\
 nVorläufige Agenda: \n\n 	Begrüßung\n 	Annahme der Arbeitsergebnisse de
 r letzten Sitzung\n 	Berichte der MoU-Organisationen\n 	Aktuelle CoVID-19 
 relevante Themen\n 	Fortschrittsberichte der Projekte / Standardisierung\n
  	Abschluss\n\nAnmeldung: Bitte buchen sie kostenlos einen Platz über die
 ses Formular. Wir benötigen ihre Daten für die Teilnehmerliste sowie bei
  Präsenzmeetings zur Bereitstellung des Raumes und des Caterings.\n\nMail
 verteiler des Interoperabilitätsforums: Sie können sich auf  https://h
 l7.at/newsletter-verwalten/  für den Mailverteiler des Interoperabilitä
 tsforums anmelden.\n\nTwitter #iopForumAT \n\n&nbsp\;
ATTACH;FMTTYPE=image/jpeg:https://hl7.at/wp-content/uploads/2017/03/meetin
 g-1015313_1280.jpg
CATEGORIES:Interoperabilitätsforum,Österreich
LOCATION:https://www.gotomeet.me/hl7austria/iopforum
END:VEVENT
BEGIN:VTIMEZONE
TZID:Europe/Vienna
X-LIC-LOCATION:Europe/Vienna
BEGIN:DAYLIGHT
DTSTART:20210328T030000
TZOFFSETFROM:+0100
TZOFFSETTO:+0200
TZNAME:CEST
END:DAYLIGHT
END:VTIMEZONE
END:VCALENDAR