
BEGIN:VCALENDAR
VERSION:2.0
PRODID:-//wp-events-plugin.com//7.2.3.1//EN
TZID:Europe/Vienna
X-WR-TIMEZONE:Europe/Vienna
BEGIN:VEVENT
UID:99@hl7.at
DTSTART;TZID=Europe/Vienna:20200513T140000
DTEND;TZID=Europe/Vienna:20200513T170000
DTSTAMP:20200423T094243Z
URL:https://hl7.at/events/22-iop-forum/
SUMMARY:22. Österreichisches Interoperabilitätsforum
DESCRIPTION:Das Österreichische Interoperabilitätsforum ist eine offene P
 lattform zur Zusammenarbeit von e-Health Projekten\, zur gegenseitigen Inf
 ormation und zur Unterstützung von e-Health-Projekten in Österreich. Ver
 anstalter sind die wichtigsten e-Health-Standardisierungsorganisationen in
  Österreich: Austrian Standards\, IHE Austria\, GS1 Austria\, DICOM Austr
 ia und HL7 Austria.  \n\nDatum: Mi.\, 13. Mai 2020 14:00 - 17:00 (CEST) \
 n\nOrt: Das IOP-Forum wird als Online-Meeting (Webkonferenz) durchgeführt
 \n Nehmen Sie an meinem Meeting per Computer\, Tablet oder Smartphone teil
 . \n https://www.gotomeet.me/hl7austria/iop-forum \nZugangscode: 461-640-0
 53\nSie können sich auch über ein Telefon einwählen:  \nÖsterreich: +
 43 7 2081 5427 Deutschland: +49 691 7489 928   Schweiz: +41 225 4599 78\
 nVorläufige Agenda: \n\n 	Begrüßung\n 	Annahme der Arbeitsergebnisse de
 r letzten Sitzung\n 	Fortschrittsberichte der Projekte / Standardisierung\
 n 	Berichte der MoU-Organisationen\n 	Abschluss\n\nAnmeldung: Bitte buchen
  sie kostenlos einen Platz über dieses Formular. Wir benötigen ihre Date
 n für die Teilnehmerliste sowie für Bereitstellung des Raumes und des Ca
 terings (nicht bei Online-Meetings).\n\nMailverteiler des Interoperabilit
 ätsforums: Sie können sich auf  https://hl7.at/newsletter-verwalten/ 
  für den Mailverteiler des Interoperabilitätsforums anmelden.\n\nTwitter
  #iopForumAT \n\n&nbsp\;
ATTACH;FMTTYPE=image/jpeg:https://hl7.at/wp-content/uploads/2017/03/fax-18
 89019_1280.jpg
CATEGORIES:Interoperabilitätsforum,Österreich
END:VEVENT
BEGIN:VTIMEZONE
TZID:Europe/Vienna
X-LIC-LOCATION:Europe/Vienna
BEGIN:DAYLIGHT
DTSTART:20200329T030000
TZOFFSETFROM:+0100
TZOFFSETTO:+0200
TZNAME:CEST
END:DAYLIGHT
END:VTIMEZONE
END:VCALENDAR