
BEGIN:VCALENDAR
VERSION:2.0
PRODID:-//wp-events-plugin.com//7.2.3.1//EN
TZID:Europe/Vienna
X-WR-TIMEZONE:Europe/Vienna
BEGIN:VEVENT
UID:93@hl7.at
DTSTART;TZID=Europe/Vienna:20200128T140000
DTEND;TZID=Europe/Vienna:20200128T170000
DTSTAMP:20200103T142410Z
URL:https://hl7.at/events/21-iop-forum/
SUMMARY:21. Österreichisches Interoperabilitätsforum
DESCRIPTION:Das Österreichische Interoperabilitätsforum ist eine offene P
 lattform zur Zusammenarbeit von e-Health Projekten\, zur gegenseitigen Inf
 ormation und zur Unterstützung von e-Health-Projekten in Österreich. Ver
 anstalter sind die wichtigsten e-Health-Standardisierungsorganisationen in
  Österreich: Austrian Standards\, IHE Austria\, GS1 Austria\, DICOM Austr
 ia und HL7 Austria.  \n\nOrt: Austrian Standards International\, Heinestr
 aße 38\, 1020 Wien\, Saal 1003\n\nZutritt: Sicherheitscode: 83*\nDer Sich
 erheitscode ermöglicht Ihnen den Zutritt zum Austrian Standards Meeting C
 enter.\nDie Benutzung der Parkgarage ist kostenpflichtig im Ausmaß von 
 € 3\,00 die Stunde bzw. € 20\,00 pro Tag.\n\nVorläufige Agenda: \n\n 
 	Begrüßung\n 	Annahme der Arbeitsergebnisse der letzten Sitzung\n 	Forts
 chrittsberichte der Projekte / Standardisierung\n 	Berichte der MoU-Organi
 sationen\n 	Abschluss\n\nAnmeldung: Bitte buchen sie kostenlos einen Platz
  über dieses Formular. Wir benötigen ihre Daten für die Bereitstellung 
 des Raumes und des Caterings.\n\nZuvor findet um 13:00 im Saal 1001 die fe
 ierliche Unterzeichnung des erneuerten Memorandum of Understanding der IKT
  Standardisierungsorganistationen im österreichischen Gesundheitswesens s
 tatt. Bitte um Rückmeldung\, wenn Sie daran teilnehmen möchten.\n\n&nbsp
 \;\n\nMailverteiler des Interoperabilitätsforums: Sie können sich auf 
  https://hl7.at/newsletter-verwalten/  für den Mailverteiler des Intero
 perabilitätsforums anmelden.\n\nTwitter #iopForumAT \n\n&nbsp\;
CATEGORIES:Interoperabilitätsforum,Österreich
LOCATION:Austrian Standards\, Heinestraße 38\, Wien\, 1020\, Österreich  
GEO:48.2184909;16.389108299999975
X-APPLE-STRUCTURED-LOCATION;VALUE=URI;X-ADDRESS=Heinestraße 38\, Wien\, 10
 20\, Österreich;X-APPLE-RADIUS=100;X-TITLE=Austrian Standards:geo:48.2184
 909,16.389108299999975
END:VEVENT
BEGIN:VTIMEZONE
TZID:Europe/Vienna
X-LIC-LOCATION:Europe/Vienna
BEGIN:STANDARD
DTSTART:20191027T020000
TZOFFSETFROM:+0200
TZOFFSETTO:+0100
TZNAME:CET
END:STANDARD
END:VTIMEZONE
END:VCALENDAR