
BEGIN:VCALENDAR
VERSION:2.0
PRODID:-//wp-events-plugin.com//7.2.3.1//EN
TZID:Europe/Vienna
X-WR-TIMEZONE:Europe/Vienna
BEGIN:VEVENT
UID:92@hl7.at
DTSTART;TZID=Europe/Vienna:20191008T140000
DTEND;TZID=Europe/Vienna:20191008T170000
DTSTAMP:20190927T065706Z
URL:https://hl7.at/events/20-iop-forum/
SUMMARY:20. Österreichisches Interoperabilitätsforum
DESCRIPTION:Das Österreichische Interoperabilitätsforum ist eine offene P
 lattform zur Zusammenarbeit von e-Health Projekten\, zur gegenseitigen Inf
 ormation und zur Unterstützung von e-Health-Projekten in Österreich. Ver
 anstalter sind die wichtigsten e-Health-Standardisierungsorganisationen in
  Österreich: Austrian Standards\, IHE Austria\, GS1 Austria\, DICOM Austr
 ia und HL7 Austria.  \n\nOrt: Technikum Wien\, Höchstädtplatz 6\, 1200 
 Wien\, Raum HS_F4.07\n(Information zur Anreise)\n\n&nbsp\;\n\nVorläufige 
 Agenda: \n\n 	Begrüßung\n 	Annahme der Arbeitsergebnisse der letzten Sit
 zung\n 	Fortschrittsberichte der Projekte / Standardisierung\n 	Berichte d
 er MoU-Organisationen\n 	Abschluss\n\nAnmeldung: Bitte buchen sie kostenlo
 s einen Platz über dieses Formular. Wir benötigen ihre Daten für die Be
 reitstellung des Raumes und des Caterings.\n\nMailverteiler des Interopera
 bilitätsforums: Sie können sich auf  https://hl7.at/newsletter-verwalt
 en/  für den Mailverteiler des Interoperabilitätsforums anmelden.\n\nTw
 itter #iopForumAT \n\n&nbsp\;
CATEGORIES:Interoperabilitätsforum,Österreich
LOCATION:FH Technikum Wien\, Höchstädtplatz 6\, Wien\, 1200 \, Österreic
 h  
GEO:48.2390534;16.377522699999986
X-APPLE-STRUCTURED-LOCATION;VALUE=URI;X-ADDRESS=Höchstädtplatz 6\, Wien\,
  1200 \, Österreich;X-APPLE-RADIUS=100;X-TITLE=FH Technikum Wien:geo:48.2
 390534,16.377522699999986
END:VEVENT
BEGIN:VTIMEZONE
TZID:Europe/Vienna
X-LIC-LOCATION:Europe/Vienna
BEGIN:DAYLIGHT
DTSTART:20190331T030000
TZOFFSETFROM:+0100
TZOFFSETTO:+0200
TZNAME:CEST
END:DAYLIGHT
END:VTIMEZONE
END:VCALENDAR