
BEGIN:VCALENDAR
VERSION:2.0
PRODID:-//wp-events-plugin.com//7.2.3.1//EN
TZID:Europe/Vienna
X-WR-TIMEZONE:Europe/Vienna
BEGIN:VEVENT
UID:87@hl7.at
DTSTART;TZID=Europe/Vienna:20190508T140000
DTEND;TZID=Europe/Vienna:20190508T170000
DTSTAMP:20190426T073200Z
URL:https://hl7.at/events/19-iop-forum/
SUMMARY:19. Österreichisches Interoperabilitätsforum
DESCRIPTION:Das Österreichische Interoperabilitätsforum ist eine offene P
 lattform zur Zusammenarbeit von e-Health Projekten\, zur gegenseitigen Inf
 ormation und zur Unterstützung von e-Health-Projekten in Österreich. Ver
 anstalter sind die wichtigsten e-Health-Standardisierungsorganisationen in
  Österreich: Austrian Standards\, IHE Austria\, GS1 Austria\, DICOM Austr
 ia und HL7 Austria.  \n\nOrt: FH Technikum Wien\, Höchstädtplatz 6\, 12
 00 Wien (Raum F4.06)\n\nVorläufige Agenda: \n\n 	Begrüßung\n 	Annahme d
 er Arbeitsergebnisse der letzten Sitzung\n 	Fortschrittsberichte der Proje
 kte / Standardisierung\n 	Berichte der MoU-Organisationen\n 	Abschluss\n\n
 Anmeldung: Bitte buchen sie kostenlos einen Platz über dieses Formular. W
 ir benötigen ihre Daten für die Bereitstellung des Raumes und des Cateri
 ngs.\n\nMailverteiler des Interoperabilitätsforums: Sie können sich auf
   https://hl7.at/newsletter-verwalten/  für den Mailverteiler des Inte
 roperabilitätsforums anmelden.\n\nTwitter #iopForumAT \n\n&nbsp\;
CATEGORIES:Interoperabilitätsforum,Österreich
LOCATION:FH Technikum Wien\, Höchstädtplatz 6\, Wien\, 1200 \, Österreic
 h  
GEO:48.2390534;16.377522699999986
X-APPLE-STRUCTURED-LOCATION;VALUE=URI;X-ADDRESS=Höchstädtplatz 6\, Wien\,
  1200 \, Österreich;X-APPLE-RADIUS=100;X-TITLE=FH Technikum Wien:geo:48.2
 390534,16.377522699999986
END:VEVENT
BEGIN:VTIMEZONE
TZID:Europe/Vienna
X-LIC-LOCATION:Europe/Vienna
BEGIN:DAYLIGHT
DTSTART:20190331T030000
TZOFFSETFROM:+0100
TZOFFSETTO:+0200
TZNAME:CEST
END:DAYLIGHT
END:VTIMEZONE
END:VCALENDAR