
BEGIN:VCALENDAR
VERSION:2.0
PRODID:-//wp-events-plugin.com//7.2.3.1//EN
TZID:Europe/Vienna
X-WR-TIMEZONE:Europe/Vienna
BEGIN:VEVENT
UID:65@hl7.at
DTSTART;TZID=Europe/Vienna:20180612T140000
DTEND;TZID=Europe/Vienna:20180612T163000
DTSTAMP:20180611T060207Z
URL:https://hl7.at/events/16-oesterreichisches-interoperabilitaetsforum/
SUMMARY:16. Österreichisches Interoperabilitätsforum
DESCRIPTION:Das Österreichische Interoperabilitätsforum ist eine offene P
 lattform zur Zusammenarbeit von e-Health Projekten\, zur gegenseitigen Inf
 ormation und zur Unterstützung von e-Health-Projekten in Österreich. Ver
 anstalter sind die wichtigsten e-Health-Standardisierungsorganisationen in
  Österreich: Austrian Standards\, IHE Austria\, GS1 Austria\, Prorec Aust
 ria und HL7 Austria.  \n\nOrt: GS1 Austria\, Brahmsplatz 3\, 1040 Wien\n\
 nVorläufige Agenda: \n\n 	Begrüßung\n 	Annahme der Arbeitsergebnisse de
 r letzten Sitzung\n 	Fortschrittsberichte der Projekte / Standardisierung\
 n\n 	ELGA CDA Implementierungsleitfäden – Ballot\n 	AUREA\n 	Telegesund
 heitsplattform\n 	Telemedizinische Implantatsnachsorge\n 	Krebsregistermel
 dungen als CDA\n 	FHIR\n 	Export-Normdatensatz 2.0\n 	DICOM Anwendergruppe
  Österreich\n 	Projekt REPO\n 	Datenformate für Biosignale &amp\; FHIR\n
  	Digitaler OP\n 	Antibiotika-Verbrauchs-Erfassung (BMGF)\n 	Diskussion we
 iterer Standardisierungsvorhaben…\n\n\n 	Berichte der MoU-Organisationen
 \n 	Abschluss\n\nAnmeldung: Bitte buchen sie kostenlos einen Platz über d
 ieses Formular. Wir benötigen ihre Daten für die Bereitstellung des Raum
 es und des Caterings.\n\nMailverteiler des Interoperabilitätsforums: Sie 
 können sich auf https://hl7.at/mailing  für den Mailverteiler des Inter
 operabilitätsforums anmelden.\n\nTwitter #iopForumAT \n\n&nbsp\;
CATEGORIES:Interoperabilitätsforum,Österreich
LOCATION:GS1 Austria\, Brahmsplatz 3\, Wien\, Wien\, 1040\, Österreich  
GEO:48.1933838;16.368809400000032
X-APPLE-STRUCTURED-LOCATION;VALUE=URI;X-ADDRESS=Brahmsplatz 3\, Wien\, Wien
 \, 1040\, Österreich;X-APPLE-RADIUS=100;X-TITLE=GS1 Austria:geo:48.193383
 8,16.368809400000032
END:VEVENT
BEGIN:VTIMEZONE
TZID:Europe/Vienna
X-LIC-LOCATION:Europe/Vienna
BEGIN:DAYLIGHT
DTSTART:20180325T030000
TZOFFSETFROM:+0100
TZOFFSETTO:+0200
TZNAME:CEST
END:DAYLIGHT
END:VTIMEZONE
END:VCALENDAR